Workbook

Sheet 宜昌市直
A1: 附件1
A2: 宜昌市秭归县事业单位2025年统一公开招聘工作人员体检名单
A3: 姓名 | B3: 性别 | C3: 准考证号 | D3: 招聘主管部门 | E3: 招聘单位 | F3: 招聘岗位
A4: 周垚 | B4: =_xlfn.XLOOKUP(C4,[1]总表!$J$2:$J$71,[1]总表!$H$2:$H$71) -> 男 | C4: 2142050300209 | D4: 秭归县归州镇人民政府 | E4: 秭归县归州镇农业农村服务中心 | F4: 农村三资管理、农业财务管理
A5: 覃雨薇 | B5: =_xlfn.XLOOKUP(C5,[1]总表!$J$2:$J$71,[1]总表!$H$2:$H$71) -> 女 | C5: 3142050401113 | D5: 秭归县归州镇人民政府 | E5: 秭归县归州镇农业农村服务中心 | F5: 农业生产研究
A6: 袁茜茜 | B6: =_xlfn.XLOOKUP(C6,[1]总表!$J$2:$J$71,[1]总表!$H$2:$H$71) -> 女 | C6: 2142050302710 | D6: 秭归县郭家坝镇人民政府 | E6: 秭归县郭家坝镇农业农村服务中心 | F6: 农村经济管理
A7: 汪凌怡 | B7: =_xlfn.XLOOKUP(C7,[1]总表!$J$2:$J$71,[1]总表!$H$2:$H$71) -> 女 | C7: 2142050301215 | D7: 秭归县郭家坝镇人民政府 | E7: 秭归县郭家坝镇农业农村服务中心 | F7: 农村经济管理
A8: 李鑫怡 | B8: =_xlfn.XLOOKUP(C8,[1]总表!$J$2:$J$71,[1]总表!$H$2:$H$71) -> 女 | C8: 3142050403405 | D8: 秭归县九畹溪镇人民政府 | E8: 秭归县九畹溪镇农业农村服务中心 | F8: 农村管理
A9: 胡资聪 | B9: =_xlfn.XLOOKUP(C9,[1]总表!$J$2:$J$71,[1]总表!$H$2:$H$71) -> 男 | C9: 3142050403501 | D9: 秭归县九畹溪镇人民政府 | E9: 秭归县九畹溪镇农业农村服务中心 | F9: 农村管理
A10: 谭杨柳 | B10: =_xlfn.XLOOKUP(C10,[1]总表!$J$2:$J$71,[1]总表!$H$2:$H$71) -> 女 | C10: 2142050302523 | D10: 秭归县两河口镇人民政府 | E10: 秭归县两河口镇农业农村服务中心 | F10: 农业产业发展、农村管理
A11: 罗思雨 | B11: =_xlfn.XLOOKUP(C11,[1]总表!$J$2:$J$71,[1]总表!$H$2:$H$71) -> 女 | C11: 2142050301208 | D11: 秭归县两河口镇人民政府 | E11: 秭归县两河口镇农业农村服务中心 | F11: 农业产业发展、农村管理
A12: 梅素源 | B12: =_xlfn.XLOOKUP(C12,[1]总表!$J$2:$J$71,[1]总表!$H$2:$H$71) -> 女 | C12: 2142050301819 | D12: 秭归县茅坪镇人民政府 | E12: 秭归县茅坪镇农业农村服务中心 | F12: 农村经营管理
A13: 王玉甫 | B13: =_xlfn.XLOOKUP(C13,[1]总表!$J$2:$J$71,[1]总表!$H$2:$H$71) -> 女 | C13: 3142050402425 | D13: 秭归县茅坪镇人民政府 | E13: 秭归县茅坪镇农业农村服务中心 | F13: 农林作物发展研究
A14: 周会淋 | B14: =_xlfn.XLOOKUP(C14,[1]总表!$J$2:$J$71,[1]总表!$H$2:$H$71) -> 女 | C14: 2142050300922 | D14: 秭归县梅家河乡人民政府 | E14: 秭归县梅家河乡党群服务中心 | F14: 文化传播
A15: 丁航 | B15: =_xlfn.XLOOKUP(C15,[1]总表!$J$2:$J$71,[1]总表!$H$2:$H$71) -> 男 | C15: 3142050401408 | D15: 秭归县梅家河乡人民政府 | E15: 秭归县梅家河乡农业农村服务中心 | F15: 农业技术
... A26: 胡海玲 | B26: =_xlfn.XLOOKUP(C26,[1]总表!$J$2:$J$71,[1]总表!$H$2:$H$71) -> 女 | C26: 2142050300624 | D26: 秭归县杨林桥镇人民政府 | E26: 秭归县杨林桥镇农业农村服务中心 | F26: 农村经济管理
